BEGIN:VCALENDAR
VERSION:2.0
PRODID:spatie/icalendar-generator
DESCRIPTION:Events from Destiny Family Center
X-WR-CALDESC:Events from Destiny Family Center
REFRESH-INTERVAL;VALUE=DURATION:PT1440M
X-PUBLISHED-TTL:PT1440M
BEGIN:VTIMEZONE
TZID:America/New_York
BEGIN:STANDARD
DTSTART:20241103T020000Z
TZOFFSETFROM:-0400
TZOFFSETTO:-0500
END:STANDARD
BEGIN:DAYLIGHT
DTSTART:20250309T020000Z
TZOFFSETFROM:-0500
TZOFFSETTO:-0400
END:DAYLIGHT
BEGIN:STANDARD
DTSTART:20251102T020000Z
TZOFFSETFROM:-0400
TZOFFSETTO:-0500
END:STANDARD
END:VTIMEZONE
BEGIN:VTIMEZONE
TZID:UTC
BEGIN:STANDARD
DTSTART:20250725T084104Z
TZOFFSETFROM:+0000
TZOFFSETTO:+0000
END:STANDARD
END:VTIMEZONE
BEGIN:VEVENT
UID:56-2
DTSTAMP:20260421T084104Z
SUMMARY:Sunday Service
LOCATION:
ORGANIZER;CN=controller:MAILTO:scott@stafforddc.com
RRULE:FREQ=WEEKLY;UNTIL=20340611T000000Z
DTSTART;TZID=America/New_York:20250629T100000
DTEND;TZID=America/New_York:20250629T110000
X-ALT-DESC;FMTTYPE=TEXT/HTML:
CATEGORIES:Services
URL;VALUE=URI:https://destinyfamilycenter.com/mc-events/sunday-service/?mc_
 id=56
METHOD:PUBLISH
END:VEVENT
END:VCALENDAR