BEGIN:VCALENDAR
VERSION:2.0
PRODID:spatie/icalendar-generator
DESCRIPTION:Events from Destiny Family Center
X-WR-CALDESC:Events from Destiny Family Center
REFRESH-INTERVAL;VALUE=DURATION:PT1440M
X-PUBLISHED-TTL:PT1440M
BEGIN:VTIMEZONE
TZID:America/New_York
BEGIN:STANDARD
DTSTART:20241103T020000Z
TZOFFSETFROM:-0400
TZOFFSETTO:-0500
END:STANDARD
BEGIN:DAYLIGHT
DTSTART:20250309T020000Z
TZOFFSETFROM:-0500
TZOFFSETTO:-0400
END:DAYLIGHT
BEGIN:STANDARD
DTSTART:20251102T020000Z
TZOFFSETFROM:-0400
TZOFFSETTO:-0500
END:STANDARD
END:VTIMEZONE
BEGIN:VTIMEZONE
TZID:UTC
BEGIN:STANDARD
DTSTART:20250725T121109Z
TZOFFSETFROM:+0000
TZOFFSETTO:+0000
END:STANDARD
END:VTIMEZONE
BEGIN:VEVENT
UID:1100-5
DTSTAMP:20260421T121109Z
SUMMARY:Prayer Meetup
LOCATION:Destiny Family Center 36 Rose Ave  Stuarts Draft Va 24477
ORGANIZER;CN=Wayne Harvey:MAILTO:wharv66@gmail.com
DTSTART;TZID=America/New_York:20250626T171500
DTEND;TZID=America/New_York:20250626T181500
X-ALT-DESC;FMTTYPE=TEXT/HTML:
CATEGORIES:Other
URL;VALUE=URI:https://destinyfamilycenter.com/mc-events/prayer-meetup/
METHOD:PUBLISH
END:VEVENT
END:VCALENDAR